BEGIN:VCALENDAR
VERSION:2.0
PRODID:-//jEvents 2.0 for Joomla//EN
CALSCALE:GREGORIAN
METHOD:PUBLISH
BEGIN:VEVENT
UID:35129e0715022855f474e4286c76780a
CATEGORIES:PvE
CREATED:19700101T000000
SUMMARY:Double Lair
DESCRIPTION:
DTSTAMP:20260422T032904
DTSTART;TZID=UTC:20191007T183000
DTEND;TZID=UTC:20191007T193000
SEQUENCE:0
RRULE:FREQ=WEEKLY;COUNT=3;INTERVAL=1;BYDAY=MO
TRANSP:OPAQUE
END:VEVENT
END:VCALENDAR