BEGIN:VCALENDAR
VERSION:2.0
PRODID:-//jEvents 2.0 for Joomla//EN
CALSCALE:GREGORIAN
METHOD:PUBLISH
BEGIN:VEVENT
UID:d2e986e01fc53262ed4b44665016a1ed
CATEGORIES:Academy
CREATED:20191006T060321
SUMMARY:Workshop-New York Raid Strats & Tips
DESCRIPTION:Phanth will discuss New York Raid (E5 &amp; E10) strategies and helpful tip
 s to defeat the Lurker. \n \nFree filth sample included for the first 10 pe
 ople that sign-up here (forums/18/12478)!\n \n
X-ALT-DESC;FMTTYPE=text/html:<p>Phanth will discuss New York Raid (E5 &amp; E10) strategies and helpful 
 tips to defeat the Lurker. </p><p> </p><p>Free filth sample included for th
 e first 10 people that <a href="forums/18/12478">sign-up here</a>!</p><p> <
 /p>
DTSTAMP:20260423T185701
DTSTART;TZID=UTC:20191012T180000
DTEND;TZID=UTC:20191012T183000
SEQUENCE:0
TRANSP:OPAQUE
END:VEVENT
END:VCALENDAR