BEGIN:VCALENDAR
VERSION:2.0
PRODID:-//jEvents 2.0 for Joomla//EN
CALSCALE:GREGORIAN
METHOD:PUBLISH
BEGIN:VEVENT
UID:1b9095f8420d35e47e80d0ac4709512f
CATEGORIES:PvE
CREATED:19700101T000000
SUMMARY:Double Lair
DESCRIPTION:Just be on and aware its going down.\n
X-ALT-DESC;FMTTYPE=text/html:<p>Just be on and aware its going down.</p>
DTSTAMP:20260421T222210
DTSTART;TZID=UTC:20191101T180000
DTEND;TZID=UTC:20191101T190000
SEQUENCE:0
RRULE:FREQ=MONTHLY;UNTIL=20191221T000000Z;INTERVAL=1;BYDAY=+1FR,+2FR,+3FR,+4FR,+5FR
TRANSP:OPAQUE
END:VEVENT
END:VCALENDAR