BEGIN:VCALENDAR
VERSION:2.0
PRODID:-//jEvents 2.0 for Joomla//EN
CALSCALE:GREGORIAN
METHOD:PUBLISH
BEGIN:VEVENT
UID:7536335482d2801d23eaa4e59fee9992
CATEGORIES:PvE
CREATED:19700101T000000
SUMMARY:Double Lair
DESCRIPTION:<p>Double Lairs on Mondays! Sign up in the Noticeboard forum (unless I forg
 et to make a thread ;) )</p><p> </p>
DTSTAMP:20260421T174853
DTSTART;TZID=UTC:Ymd\THis
DTEND;TZID=UTC:20191104T194500
SEQUENCE:0
RRULE:FREQ=WEEKLY;UNTIL=20191231T000000Z;INTERVAL=1;BYDAY=MO
EXDATE;TZID=UTC:20191216T190000
TRANSP:OPAQUE
END:VEVENT
BEGIN:VEVENT
UID:7536335482d2801d23eaa4e59fee9992
CATEGORIES:PvE
CREATED:20191103T081211
SUMMARY:Double Lair
DESCRIPTION:<p>Double Lairs on Mondays! Sign up in the Noticeboard forum (unless I forg
 et to make a thread ;) )</p><p> </p>
 URL;VALUE=URI:https://nine-swords.com/events/eventdetail/13791/-/double-lair?tmpl=compone
 nt

DTSTAMP:20260421T174853
DTSTART;TZID=UTC:20191104T200000
DTEND;TZID=UTC:20191104T204500
RECURRENCE-ID;TZID=UTC:20191104T190000
SEQUENCE:0
TRANSP:OPAQUE
END:VEVENT
BEGIN:VEVENT
UID:7536335482d2801d23eaa4e59fee9992
CATEGORIES:PvE
CREATED:20191103T081211
SUMMARY:Double Lair
DESCRIPTION:<p>Double Lairs on Mondays! Sign up in the Noticeboard forum (unless I forg
 et to make a thread ;) )</p><p> </p>
 URL;VALUE=URI:https://nine-swords.com/events/eventdetail/13793/-/double-lair?tmpl=compone
 nt

DTSTAMP:20260421T174853
DTSTART;TZID=UTC:20191118T200000
DTEND;TZID=UTC:20191118T204500
RECURRENCE-ID;TZID=UTC:20191118T190000
SEQUENCE:0
TRANSP:OPAQUE
END:VEVENT
END:VCALENDAR