BEGIN:VCALENDAR
VERSION:2.0
PRODID:-//jEvents 2.0 for Joomla//EN
CALSCALE:GREGORIAN
METHOD:PUBLISH
BEGIN:VEVENT
UID:89de4ecabbbcd475e3b613ed51177d0c
CATEGORIES:PvE
CREATED:20191110T083958
SUMMARY:Monster Hunting!
DESCRIPTION:As part of the 9S Achievement Extravaganza I will be holding a monster hunt
 ing session - first person who joins the team when we get started can choos
 e the target!\n
X-ALT-DESC;FMTTYPE=text/html:<p>As part of the 9S Achievement Extravaganza I will be holding a monster h
 unting session - first person who joins the team when we get started can ch
 oose the target!</p>
DTSTAMP:20260421T222210
DTSTART;TZID=UTC:20191111T180000
DTEND;TZID=UTC:20191111T184500
SEQUENCE:0
TRANSP:OPAQUE
END:VEVENT
END:VCALENDAR