BEGIN:VCALENDAR
VERSION:2.0
PRODID:-//jEvents 2.0 for Joomla//EN
CALSCALE:GREGORIAN
METHOD:PUBLISH
BEGIN:VEVENT
UID:a76e468f1c5a6aaa6eaedaafe5b1c7c2
CATEGORIES:PvE
CREATED:20191110T084200
SUMMARY:Lore Hunting!
DESCRIPTION:As part of the 9S Achievement Extravaganza I want to help you get your lore
 ! \nDo you need a piece of lore that needs a team, like from Ressurection J
 oe, or the Draug? Perhaps you need the run through all the Hell Dungeons. \
 n \nLet me know in cabal chat when we get started! \n
X-ALT-DESC;FMTTYPE=text/html:<p>As part of the 9S Achievement Extravaganza I want to help you get your l
 ore! </p><p>Do you need a piece of lore that needs a team, like from Ressur
 ection Joe, or the Draug? Perhaps you need the run through all the Hell Dun
 geons. </p><p> </p><p>Let me know in cabal chat when we get started! </p>
DTSTAMP:20260421T222153
DTSTART;TZID=UTC:20191112T180000
DTEND;TZID=UTC:20191112T184500
SEQUENCE:0
TRANSP:OPAQUE
END:VEVENT
END:VCALENDAR