BEGIN:VCALENDAR
VERSION:2.0
PRODID:-//jEvents 2.0 for Joomla//EN
CALSCALE:GREGORIAN
METHOD:PUBLISH
BEGIN:VEVENT
UID:da4e10fbfd94afe3eccce5a05ac1f2f9
CATEGORIES:PvE
CREATED:19700101T000000
SUMMARY:Weekly World Bosses (Saturday)
DESCRIPTION:<p>Summoning 6 World Bosses - room for 10 people in 2 groups of 5.<br /> <b
 r /> You need to be level 50 to be able to join.<br /> <br /> If another gr
 oup is already summoning World Bosses, we will do Regional Bosses instead.<
 /p>
DTSTAMP:20260421T174012
DTSTART;TZID=UTC:Ymd\THis
DTEND;TZID=UTC:20191116T190000
SEQUENCE:0
RRULE:FREQ=WEEKLY;UNTIL=20191229T000000Z;INTERVAL=1;BYDAY=SA
TRANSP:OPAQUE
END:VEVENT
BEGIN:VEVENT
UID:da4e10fbfd94afe3eccce5a05ac1f2f9
CATEGORIES:PvE
CREATED:20191111T063811
SUMMARY:Weekly World Bosses (Saturday)
DESCRIPTION:<p>Summoning 6 World Bosses - room for 10 people in 2 groups of 5.<br /> <b
 r /> You need to be level 50 to be able to join.<br /> <br /> If another gr
 oup is already summoning World Bosses, we will do Regional Bosses instead.<
 /p><p><strong>To reserve your place, please sign-up <a href="forums/18/1258
 2">here</a>.</strong></p>
 URL;VALUE=URI:https://nine-swords.com/events/eventdetail/13971/-/weekly-world-bosses-satu
 rday?tmpl=component

DTSTAMP:20260421T174012
DTSTART;TZID=UTC:20191116T180000
DTEND;TZID=UTC:20191116T190000
RECURRENCE-ID;TZID=UTC:20191116T180000
SEQUENCE:0
TRANSP:OPAQUE
END:VEVENT
BEGIN:VEVENT
UID:da4e10fbfd94afe3eccce5a05ac1f2f9
CATEGORIES:PvE
CREATED:20191111T063811
SUMMARY:Weekly World Bosses (Saturday)
DESCRIPTION:<p>Summoning 6 World Bosses - room for 10 people in 2 groups of 5.<br /> <b
 r /> You need to be level 50 to be able to join.<br /> <br /> If another gr
 oup is already summoning World Bosses, we will do Regional Bosses instead.<
 /p><p> </p><p>Sign-up<a href="forums/18/12616"> here </a>to reserve your sp
 ot.</p>
 URL;VALUE=URI:https://nine-swords.com/events/eventdetail/13973/-/weekly-world-bosses-satu
 rday?tmpl=component

DTSTAMP:20260421T174012
DTSTART;TZID=UTC:20191130T180000
DTEND;TZID=UTC:20191130T190000
RECURRENCE-ID;TZID=UTC:20191130T180000
SEQUENCE:0
TRANSP:OPAQUE
END:VEVENT
BEGIN:VEVENT
UID:da4e10fbfd94afe3eccce5a05ac1f2f9
CATEGORIES:PvE
CREATED:20191111T063811
SUMMARY:Weekly World Bosses (Saturday)
DESCRIPTION:<p>Summoning 6 World Bosses - room for 10 people in 2 groups of 5.<br /> <b
 r /> You need to be level 50 to be able to join.<br /> <br /> If another gr
 oup is already summoning World Bosses, we will do Regional Bosses instead.<
 /p><p>Sign-up<a href="forums/18/12629"> here</a> to reserve your spot!</p><
 p> </p>
 URL;VALUE=URI:https://nine-swords.com/events/eventdetail/13974/-/weekly-world-bosses-satu
 rday?tmpl=component

DTSTAMP:20260421T174012
DTSTART;TZID=UTC:20191207T180000
DTEND;TZID=UTC:20191207T190000
RECURRENCE-ID;TZID=UTC:20191207T180000
SEQUENCE:0
TRANSP:OPAQUE
END:VEVENT
END:VCALENDAR