BEGIN:VCALENDAR
VERSION:2.0
PRODID:-//jEvents 2.0 for Joomla//EN
CALSCALE:GREGORIAN
METHOD:PUBLISH
BEGIN:VEVENT
UID:8d4c81ab583ce7b679611e016cb59f47
CATEGORIES:PvE
CREATED:19700101T000000
SUMMARY:Mega Bosses (Tuesday @ 6:30 CST)
DESCRIPTION:Summoning 6 World Bosses - room for 10 people in 2 groups of 5.\n \n You ne
 ed to be level 50 to be able to join.\n \n If another group is already summ
 oning World Bosses, we will do Regional Bosses instead.\n
X-ALT-DESC;FMTTYPE=text/html:<p>Summoning 6 World Bosses - room for 10 people in 2 groups of 5.<br /> <b
 r /> You need to be level 50 to be able to join.<br /> <br /> If another gr
 oup is already summoning World Bosses, we will do Regional Bosses instead.<
 /p>
DTSTAMP:20260421T173952
DTSTART;TZID=UTC:20191204T003000
DTEND;TZID=UTC:20191204T013000
SEQUENCE:0
RRULE:FREQ=WEEKLY;UNTIL=20200101T000000Z;INTERVAL=1;BYDAY=WE
TRANSP:OPAQUE
END:VEVENT
END:VCALENDAR