BEGIN:VCALENDAR
VERSION:2.0
PRODID:-//jEvents 2.0 for Joomla//EN
CALSCALE:GREGORIAN
METHOD:PUBLISH
BEGIN:VEVENT
UID:191216ecafb97082342deca1048b6b00
CATEGORIES:PvE
CREATED:19700101T000000
SUMMARY:NYR e5 and SM
LOCATION:New York
DESCRIPTION:Running the e5 and Story Mode Ney York Raid.  You just need to be level 50 
 for Story Mode, and e5 requires IP 450+.  Join us!\n
X-ALT-DESC;FMTTYPE=text/html:<p>Running the e5 and Story Mode Ney York Raid.  You just need to be level 
 50 for Story Mode, and e5 requires IP 450+.  Join us!</p>
DTSTAMP:20260421T152802
DTSTART;TZID=UTC:20191222T193000
SEQUENCE:0
RRULE:FREQ=MONTHLY;UNTIL=20200127T000000Z;INTERVAL=1;BYDAY=+1SU,+2SU,+3SU,+4SU,+5SU
TRANSP:OPAQUE
END:VEVENT
END:VCALENDAR