BEGIN:VCALENDAR
VERSION:2.0
PRODID:-//jEvents 2.0 for Joomla//EN
CALSCALE:GREGORIAN
METHOD:PUBLISH
BEGIN:VEVENT
UID:771eb8fbd8317b1db42244266c9359f8
CATEGORIES:PvE
CREATED:19700101T000000
SUMMARY:Weekly NYR E10
DESCRIPTION:<p>Required 1k+ IP. Everyone that meets requirement will be invited!</p>
DTSTAMP:20260421T171027
DTSTART;TZID=UTC:20191228T180000
DTEND;TZID=UTC:20191228T190000
SEQUENCE:0
RRULE:FREQ=WEEKLY;UNTIL=20200630T000000Z;INTERVAL=1;BYDAY=SA
EXDATE;TZID=UTC:20200627T180000
TRANSP:OPAQUE
END:VEVENT
BEGIN:VEVENT
UID:771eb8fbd8317b1db42244266c9359f8
CATEGORIES:PvE
CREATED:20191224T135139
SUMMARY:NYR E10 (CANCELLED)
DESCRIPTION:<p>Cancelled due to Cabal Pride...plus my internet is dead!</p>
 URL;VALUE=URI:https://nine-swords.com/events/eventdetail/14066/-/nyr-e10-cancelled?tmpl=c
 omponent

DTSTAMP:20260421T171027
DTSTART;TZID=UTC:20200425T180000
DTEND;TZID=UTC:20200425T190000
RECURRENCE-ID;TZID=UTC:20200425T180000
SEQUENCE:0
TRANSP:OPAQUE
END:VEVENT
BEGIN:VEVENT
UID:771eb8fbd8317b1db42244266c9359f8
CATEGORIES:PvE
CREATED:20191224T135139
SUMMARY:Weekly NYR E10?
DESCRIPTION:<p>Required 1k+ IP. Everyone that meets requirement will be invited!</p><p>
 I'm having internet issues again tonight. rifla, bOOgied, Kate, or any lead
 er, feel free to run it. ~ Phanth</p>
 URL;VALUE=URI:https://nine-swords.com/events/eventdetail/14070/-/weekly-nyr-e10?tmpl=comp
 onent

DTSTAMP:20260421T171027
DTSTART;TZID=UTC:20200509T180000
DTEND;TZID=UTC:20200509T190000
RECURRENCE-ID;TZID=UTC:20200509T180000
SEQUENCE:0
TRANSP:OPAQUE
END:VEVENT
END:VCALENDAR