BEGIN:VCALENDAR
VERSION:2.0
PRODID:-//jEvents 2.0 for Joomla//EN
CALSCALE:GREGORIAN
METHOD:PUBLISH
BEGIN:VEVENT
UID:d3cc3cad5716cba71c57f829c08ec80e
CATEGORIES:PvE
CREATED:19700101T000000
SUMMARY:Double Lairs
DESCRIPTION:<p>Monday Double Lairs! </p><p>The lairs we head to will be chosen based on
  the cooldowns we all have at the time of doing it. PUGs will be called for
  in LFG if we don't fill by start time. </p><p>No sign up, just be online o
 n time. See you there! </p>
DTSTAMP:20260421T171118
DTSTART;TZID=UTC:20200106T190000
DTEND;TZID=UTC:20200106T194500
SEQUENCE:0
RRULE:FREQ=WEEKLY;UNTIL=20200331T000000Z;INTERVAL=1;BYDAY=MO
EXDATE;TZID=UTC:20200217T190000,20200330T190000
TRANSP:OPAQUE
END:VEVENT
END:VCALENDAR