BEGIN:VCALENDAR
VERSION:2.0
PRODID:-//jEvents 2.0 for Joomla//EN
CALSCALE:GREGORIAN
METHOD:PUBLISH
BEGIN:VEVENT
UID:6078656597bb60e215476290993c0f62
CATEGORIES:PvE
CREATED:19700101T000000
SUMMARY:Weekly Regional Boss Farm
DESCRIPTION:Regional Boss Farm.  Boss to be determined based on amount in cabal bank an
 d group's needs/wants.\nNo IP requirement, but you must be level 50.\nNo si
 gn-up.  However, invites will start at 5 minutes before the event.  If the 
 raid is full, there should be 3 spots for leeching.\n \n
X-ALT-DESC;FMTTYPE=text/html:<p>Regional Boss Farm.  Boss to be determined based on amount in cabal bank
  and group's needs/wants.</p><p>No IP requirement, but you must be level 50
 .</p><p>No sign-up.  However, invites will start at 5 minutes before the ev
 ent.  If the raid is full, there should be 3 spots for leeching.</p><p> </p
 >
DTSTAMP:20260421T170713
DTSTART;TZID=UTC:20200109T193000
DTEND;TZID=UTC:20200109T203000
SEQUENCE:0
RRULE:FREQ=WEEKLY;UNTIL=20200417T000000Z;INTERVAL=1;BYDAY=TH
EXDATE;TZID=UTC:20200312T193000,20200319T193000,20200326T193000,20200402T193000,20200409T19
 3000,20200416T193000
TRANSP:OPAQUE
END:VEVENT
BEGIN:VEVENT
UID:6078656597bb60e215476290993c0f62
CATEGORIES:PvE
CREATED:20200107T214926
SUMMARY:CANCELLED Weekly Regional Boss Farm
DESCRIPTION:Cancelled at time set due to game downtime! \nLog in before or after to joi
 n in whatever is going on ad-hoc\n \n \nRegional Boss Farm.  Boss to be det
 ermined based on amount in cabal bank and group's needs/wants.\nNo IP requi
 rement, but you must be level 50.\nNo sign-up.  However, invites will start
  at 5 minutes before the event.  If the raid is full, there should be 3 spo
 ts for leeching.\n \n
X-ALT-DESC;FMTTYPE=text/html:<p><strong><span style="color: #ff0000;">Cancelled at time set due to game 
 downtime! </span></strong></p><p><strong><span style="color: #ff0000;">Log 
 in before or after to join in whatever is going on ad-hoc</span></strong></
 p><p> </p><p> </p><p>Regional Boss Farm.  Boss to be determined based on am
 ount in cabal bank and group's needs/wants.</p><p>No IP requirement, but yo
 u must be level 50.</p><p>No sign-up.  However, invites will start at 5 min
 utes before the event.  If the raid is full, there should be 3 spots for le
 eching.</p><p> </p>
 URL;VALUE=URI:https://nine-swords.com/events/eventdetail/14117/-/cancelled-weekly-regiona
 l-boss-farm?tmpl=component

DTSTAMP:20260421T170713
DTSTART;TZID=UTC:20200213T193000
DTEND;TZID=UTC:20200213T203000
RECURRENCE-ID;TZID=UTC:20200213T193000
SEQUENCE:0
TRANSP:OPAQUE
END:VEVENT
END:VCALENDAR