BEGIN:VCALENDAR
VERSION:2.0
PRODID:-//jEvents 2.0 for Joomla//EN
CALSCALE:GREGORIAN
METHOD:PUBLISH
BEGIN:VEVENT
UID:e741f8d926037800dcc921ecb5d26ac5
CATEGORIES:PvE
CREATED:19700101T000000
SUMMARY:Weekly World Bosses- The Sequel!
DESCRIPTION:Summoning Six World Bosses from whatever is the largest pile in the bank! T
 ime and energy depending, I may order up to an additional six bonus summons
  for respectably fast takedowns in an effort to help manage the mountain of
  essences.\nMinimum level for this content is LVL 50. Minimum group size is
  5 to summon. Raid will be shuffled so that all participating cabal members
  will get a share of bonus missions. (Summoning group gets main mission cre
 dit with double rewards!!)\n \n \n
X-ALT-DESC;FMTTYPE=text/html:<p>Summoning Six World Bosses from whatever is the largest pile in the bank
 ! Time and energy depending, I may order up to an additional six bonus summ
 ons for respectably fast takedowns in an effort to help manage the mountain
  of essences.</p><p>Minimum level for this content is LVL 50. Minimum group
  size is 5 to summon. Raid will be shuffled so that all participating cabal
  members will get a share of bonus missions. (Summoning group gets main mis
 sion credit with double rewards!!)</p><p> </p><p> </p>
DTSTAMP:20260421T150442
DTSTART;TZID=UTC:20200114T000000
DTEND;TZID=UTC:20200114T010000
SEQUENCE:0
RRULE:FREQ=WEEKLY;COUNT=11;INTERVAL=1;BYDAY=TU
TRANSP:OPAQUE
END:VEVENT
END:VCALENDAR