BEGIN:VCALENDAR
VERSION:2.0
PRODID:-//jEvents 2.0 for Joomla//EN
CALSCALE:GREGORIAN
METHOD:PUBLISH
BEGIN:VEVENT
UID:65f5dc50de33cfb97f350444f827f37d
CATEGORIES:PvE
CREATED:20200124T000940
SUMMARY:lair practice
DESCRIPTION:Lair we agree on. future tanks need practice\n
X-ALT-DESC;FMTTYPE=text/html:<p>Lair we agree on. future tanks need practice</p>
DTSTAMP:20260421T170650
DTSTART;TZID=UTC:20200124T190000
DTEND;TZID=UTC:20200124T194500
SEQUENCE:0
TRANSP:OPAQUE
END:VEVENT
END:VCALENDAR