BEGIN:VCALENDAR
VERSION:2.0
PRODID:-//jEvents 2.0 for Joomla//EN
CALSCALE:GREGORIAN
METHOD:PUBLISH
BEGIN:VEVENT
UID:21018a3fd81deb58fd92e81572355724
CATEGORIES:Academy
CREATED:20200209T092525
SUMMARY:Brainstorming session: Cabal Pride 7
DESCRIPTION:<p>As part of our Honing the Blades event, this time slot will be used to b
 rainstorm ideas for Cabal Pride 7 (Our yearly SWL wide recruitment event)</
 p><p>The session will last up to 1 hour. </p>
DTSTAMP:20260421T192642
DTSTART;TZID=UTC:20200307T203000
DTEND;TZID=UTC:20200307T213000
SEQUENCE:0
TRANSP:OPAQUE
END:VEVENT
END:VCALENDAR