BEGIN:VCALENDAR
VERSION:2.0
PRODID:-//jEvents 2.0 for Joomla//EN
CALSCALE:GREGORIAN
METHOD:PUBLISH
BEGIN:VEVENT
UID:7548f1c459489bd9aeaec7a17db9036c
CATEGORIES:PvE
CREATED:19700101T000000
SUMMARY:NYRe10(3rdchance)
DESCRIPTION:This is for those that might not have the completion yet as priority first,
 second can lend a hand.\n
X-ALT-DESC;FMTTYPE=text/html:<p><em><strong>This is for those that might not have the completion yet as 
 priority first,second can lend a hand.</strong></em></p>
DTSTAMP:20260421T152735
DTSTART;TZID=UTC:20200315T190000
SEQUENCE:0
RRULE:FREQ=WEEKLY;UNTIL=20200416T000000Z;INTERVAL=1;BYDAY=SU
TRANSP:OPAQUE
END:VEVENT
END:VCALENDAR