BEGIN:VCALENDAR
VERSION:2.0
PRODID:-//jEvents 2.0 for Joomla//EN
CALSCALE:GREGORIAN
METHOD:PUBLISH
BEGIN:VEVENT
UID:6c5d4aae419572551f2d906098f3083f
CATEGORIES:PvE
CREATED:20200412T143502
SUMMARY:NitM Shard Run
DESCRIPTION:Need shards to help you progress your museum? Make sure to log in to join K
 ate on a Shard run through Kaidan. \nRun will take approximately 45mins (in
 cl. if you need help with the container bosses)\n(Access to Kaidan is neces
 sary to join this. Make sure you do not have any cooldowns for the SIDE mis
 sions in Kaidan. Max team size of 5 for this run)\n
X-ALT-DESC;FMTTYPE=text/html:<p>Need shards to help you progress your museum? Make sure to log in to joi
 n Kate on a Shard run through Kaidan. </p><p>Run will take approximately 45
 mins (incl. if you need help with the container bosses)</p><p>(Access to Ka
 idan is necessary to join this. Make sure you do not have any cooldowns for
  the SIDE missions in Kaidan. Max team size of 5 for this run)</p>
DTSTAMP:20260421T152802
DTSTART;TZID=UTC:20200413T130000
DTEND;TZID=UTC:20200413T134500
SEQUENCE:0
TRANSP:OPAQUE
END:VEVENT
END:VCALENDAR