BEGIN:VCALENDAR
VERSION:2.0
PRODID:-//jEvents 2.0 for Joomla//EN
CALSCALE:GREGORIAN
METHOD:PUBLISH
BEGIN:VEVENT
UID:9ad19222d62ee32e7ba7749be8c263e9
CATEGORIES:PvE
CREATED:20200524T173709
SUMMARY:NY Raid E5 TRAINING RUN
DESCRIPTION:<p>We have lots of new to E5 people in the cabal - therefore, we will be do
 ing some NY Raid E5 training runs to help people learn mechanics. </p><p> <
 /p><p>Sign up in the Noticeboard forum is IMPORTANT!! We need to know if th
 ere is a need for this, and also that people can commit to it! </p><p> </p>
DTSTAMP:20260421T210116
DTSTART;TZID=UTC:20200531T170000
DTEND;TZID=UTC:20200531T174500
SEQUENCE:0
TRANSP:OPAQUE
END:VEVENT
END:VCALENDAR