BEGIN:VCALENDAR
VERSION:2.0
PRODID:-//jEvents 2.0 for Joomla//EN
CALSCALE:GREGORIAN
METHOD:PUBLISH
BEGIN:VEVENT
UID:eb5b3cbad1887147cef4bba3a2c95d99
CATEGORIES:Social
CREATED:20200815T153038
SUMMARY:Meet up!
DESCRIPTION:<p>See you at 19:15 in Kumiho Hotel (straight after our NY Raid run on Tues
 day) to say hi!</p><p>Wear something lovely, may bring my camera ;)</p>
DTSTAMP:20260423T214723
DTSTART;TZID=UTC:20200818T191500
DTEND;TZID=UTC:20200818T194500
SEQUENCE:0
TRANSP:OPAQUE
END:VEVENT
END:VCALENDAR