BEGIN:VCALENDAR
VERSION:2.0
PRODID:-//jEvents 2.0 for Joomla//EN
CALSCALE:GREGORIAN
METHOD:PUBLISH
BEGIN:VEVENT
UID:7c8b07f744d8f3ebd8c1c405f1d114a3
CATEGORIES:PvE
CREATED:20200822T120212
SUMMARY:Double Lair
DESCRIPTION:<p>Double Lair! This week we are doing SC and SD</p><p>So make sure you are
  level 50, and can get to the Scorched Desert and Savage Coast lair wells :
 )</p><p>If you sign up - make sure you DON'T have a cooldown, please!</p><p
 >Sign up thread: <a href="forums/18/13005">https://www.nine-swords.com/foru
 ms/18/13005</a></p>
DTSTAMP:20260424T002130
DTSTART;TZID=UTC:20200824T173000
DTEND;TZID=UTC:20200824T183000
SEQUENCE:0
TRANSP:OPAQUE
END:VEVENT
END:VCALENDAR