BEGIN:VCALENDAR
VERSION:2.0
PRODID:-//jEvents 2.0 for Joomla//EN
CALSCALE:GREGORIAN
METHOD:PUBLISH
BEGIN:VEVENT
UID:139e9601edb48504033848f111578457
CATEGORIES:PvE
CREATED:20201001T194916
SUMMARY:5F: Monster Hunting!
DESCRIPTION:<p>Which monsters do you need to ensure you can get Jack in your museum? (<
 a href="forums/18/13061?p=84787#p84787">https://www.nine-swords.com/forums/
 18/13061?p=84787#p84787)</a></p><p>I know you want to get this feat by the 
 end of the month.. so get my attention first as this time slot kicks off, a
 nd we will go after the monster target you need! </p>
CONTACT:Katelin
DTSTAMP:20260423T154628
DTSTART;TZID=UTC:20201003T140000
DTEND;TZID=UTC:20201003T150000
SEQUENCE:0
TRANSP:OPAQUE
END:VEVENT
END:VCALENDAR