BEGIN:VCALENDAR
VERSION:2.0
PRODID:-//jEvents 2.0 for Joomla//EN
CALSCALE:GREGORIAN
METHOD:PUBLISH
BEGIN:VEVENT
UID:4bf5a98412830353f1f1aab8b20f41bf
CATEGORIES:PvE
CREATED:20201001T195034
SUMMARY:5F: Monster Hunting!
DESCRIPTION:Which monsters do you need to ensure you can get Jack in your museum? (http
 s://www.nine-swords.com/forums/18/13061?p=84787#p84787) (forums/18/13061?p=
 84787#p84787)\nI know you want to get this feat by the end of the month.. s
 o get my attention first as this time slot kicks off, and we will go after 
 the monster target you need! \n
X-ALT-DESC;FMTTYPE=text/html:<p>Which monsters do you need to ensure you can get Jack in your museum? (<
 a href="forums/18/13061?p=84787#p84787">https://www.nine-swords.com/forums/
 18/13061?p=84787#p84787)</a></p><p>I know you want to get this feat by the 
 end of the month.. so get my attention first as this time slot kicks off, a
 nd we will go after the monster target you need! </p>
CONTACT:Katelin
DTSTAMP:20260423T154800
DTSTART;TZID=UTC:20201011T090000
DTEND;TZID=UTC:20201011T100000
SEQUENCE:0
TRANSP:OPAQUE
END:VEVENT
END:VCALENDAR