BEGIN:VCALENDAR
VERSION:2.0
PRODID:-//jEvents 2.0 for Joomla//EN
CALSCALE:GREGORIAN
METHOD:PUBLISH
BEGIN:VEVENT
UID:77f4dacbcb6cbc104acda1c640adc186
CATEGORIES:PvE
CREATED:20201001T195202
SUMMARY:Cancelled. 5F: Monster Hunting!
DESCRIPTION:<p> </p><p><span style="color: #ff0000;">Sorry. I'm still working and not g
 oing to make this event. Will reschedule. </span></p><p> </p><p> </p><p>Whi
 ch monsters do you need to ensure you can get Jack in your museum? (<a href
 ="forums/18/13061?p=84787#p84787">https://www.nine-swords.com/forums/18/130
 61?p=84787#p84787)</a></p><p>I know you want to get this feat by the end of
  the month.. so get my attention first as this time slot kicks off, and we 
 will go after the monster target you need! </p>
CONTACT:Katelin
DTSTAMP:20260423T165927
DTSTART;TZID=UTC:20201015T170000
DTEND;TZID=UTC:20201015T174500
SEQUENCE:0
TRANSP:OPAQUE
END:VEVENT
END:VCALENDAR