BEGIN:VCALENDAR
VERSION:2.0
PRODID:-//jEvents 2.0 for Joomla//EN
CALSCALE:GREGORIAN
METHOD:PUBLISH
BEGIN:VEVENT
UID:42ea25ed33905b1116478fa483a34426
CATEGORIES:PvE
CREATED:20201202T191243
SUMMARY:Triple Lair
DESCRIPTION:Hi hi, Let's get a hattrick of lairs. Will decide which lairs to run depend
 ing on raid member's lair cooldowns. \nAny level 50 is welcome to join. Sin
 ce its the festive season, dress up for it too.\nNo sign-up required. Invit
 es will start 5 minutes before the event.  If the raid is full, there are u
 p to 3 spots for leeching / tagging along.\n
X-ALT-DESC;FMTTYPE=text/html:<p>Hi hi, Let's get a hattrick of lairs. Will decide which lairs to run dep
 ending on raid member's lair cooldowns. </p><p>Any level 50 is welcome to j
 oin. Since its the festive season, dress up for it too.</p><p>No sign-up re
 quired. Invites will start 5 minutes before the event.  If the raid is full
 , there are up to 3 spots for leeching / tagging along.</p>
DTSTAMP:20260423T062602
DTSTART;TZID=UTC:20201204T180000
DTEND;TZID=UTC:20201204T193000
SEQUENCE:0
TRANSP:OPAQUE
END:VEVENT
END:VCALENDAR