BEGIN:VCALENDAR
VERSION:2.0
PRODID:-//jEvents 2.0 for Joomla//EN
CALSCALE:GREGORIAN
METHOD:PUBLISH
BEGIN:VEVENT
UID:47c551d1c7827b15b21c7dd6737a6dbb
CATEGORIES:PvE
CREATED:19700101T000000
SUMMARY:weekly NYR E10
DESCRIPTION:<p>E10 for cabalies (+ people we need to clear it)</p>
DTSTAMP:20260425T104417
DTSTART;TZID=UTC:20210126T180000
DTEND;TZID=UTC:20210126T190000
SEQUENCE:0
RRULE:FREQ=WEEKLY;COUNT=15;INTERVAL=1;BYDAY=TU
EXDATE;TZID=UTC:20210406T180000,20210413T180000,20210420T180000,20210427T180000,20210504T18
 0000
TRANSP:OPAQUE
END:VEVENT
BEGIN:VEVENT
UID:47c551d1c7827b15b21c7dd6737a6dbb
CATEGORIES:PvE
CREATED:20210119T191703
SUMMARY:weekly NYR E10
DESCRIPTION:<p>E10 for cabalies (+ people we need to clear it)</p>
 URL;VALUE=URI:https://nine-swords.com/events/eventdetail/14767/-/weekly-nyr-e10?tmpl=comp
 onent

DTSTAMP:20260425T104417
DTSTART;TZID=UTC:20210330T170000
DTEND;TZID=UTC:20210330T180000
RECURRENCE-ID;TZID=UTC:20210330T180000
SEQUENCE:0
TRANSP:OPAQUE
END:VEVENT
END:VCALENDAR