BEGIN:VCALENDAR
VERSION:2.0
PRODID:-//jEvents 2.0 for Joomla//EN
CALSCALE:GREGORIAN
METHOD:PUBLISH
BEGIN:VEVENT
UID:4137e7a3f363128ec8796cb1a61f5014
CATEGORIES:PvE
CREATED:19700101T000000
SUMMARY:Weekly NYR E5 
DESCRIPTION:NYR E5, ip 450+ to join. We'll run NYR SM before or after. NYR E1 upon requ
 est.\nNo sign-up required. We'll run as many as need it.\n
X-ALT-DESC;FMTTYPE=text/html:<div class="jev_evdt_desc"><p>NYR E5, ip 450+ to join. We'll run NYR SM bef
 ore or after. NYR E1 upon request.</p><p>No sign-up required. We'll run as 
 many as need it.</p></div>
DTSTAMP:20260423T055854
DTSTART;TZID=UTC:20210406T183000
DTEND;TZID=UTC:20210406T190000
SEQUENCE:0
RRULE:FREQ=WEEKLY;UNTIL=20210609T000000Z;INTERVAL=1;BYDAY=TU
TRANSP:OPAQUE
END:VEVENT
END:VCALENDAR