BEGIN:VCALENDAR
VERSION:2.0
PRODID:-//jEvents 2.0 for Joomla//EN
CALSCALE:GREGORIAN
METHOD:PUBLISH
BEGIN:VEVENT
UID:8883f56571b7e130eda2fbd4b2828f09
CATEGORIES:External Event
CREATED:20210420T160434
SUMMARY:Father Duffy's Fight Club
LOCATION:Seoul Fight Club
DESCRIPTION:Free for all PVP event, see more at website.\n \n- IT'S OUR 3RD ANNUAL SPRI
 NG FORMAL! \nhttp://www.fdfc.info/\n
X-ALT-DESC;FMTTYPE=text/html:<p>Free for all PVP event, see more at website.</p><p> </p><h4 class="welco
 me-subtitle"><span class="heading-text-3"><i>- IT'S OUR 3RD ANNUAL SPRING F
 ORMAL!</i></span></h4><p> </p><p>http://www.fdfc.info/</p>
CONTACT:http://www.fdfc.info/
DTSTAMP:20260425T123338
DTSTART;TZID=UTC:20210516T180000
DTEND;TZID=UTC:20210516T190000
SEQUENCE:0
TRANSP:OPAQUE
END:VEVENT
END:VCALENDAR