BEGIN:VCALENDAR
VERSION:2.0
PRODID:-//jEvents 2.0 for Joomla//EN
CALSCALE:GREGORIAN
METHOD:PUBLISH
BEGIN:VEVENT
UID:fe11b29644d83886f7a58a25b2184fa2
CATEGORIES:PvE
CREATED:19700101T000000
SUMMARY:TRAINING NYR E10
DESCRIPTION:9S NY Raid E10 TRAINING\nSign up in our Noticeboard forum with the role you
  want to train in. \nhttps://www.nine-swords.com/forums/18 (forums/18)\n
X-ALT-DESC;FMTTYPE=text/html:<p>9S NY Raid E10 TRAINING</p><p>Sign up in our Noticeboard forum with the 
 role you want to train in. </p><p><a href="forums/18">https://www.nine-swor
 ds.com/forums/18</a></p>
DTSTAMP:20260423T044137
DTSTART;TZID=UTC:20210331T170000
DTEND;TZID=UTC:20210331T180000
SEQUENCE:0
RRULE:FREQ=WEEKLY;UNTIL=20210610T000000Z;INTERVAL=1;BYDAY=WE
TRANSP:OPAQUE
END:VEVENT
END:VCALENDAR