BEGIN:VCALENDAR
VERSION:2.0
PRODID:-//jEvents 2.0 for Joomla//EN
CALSCALE:GREGORIAN
METHOD:PUBLISH
BEGIN:VEVENT
UID:bd90a26deb1dbe374d97bdbd34de07a1
CATEGORIES:PvE
CREATED:20210826T185434
SUMMARY:MONSTER HUNTING: Kyonshi
DESCRIPTION:MONSTER HUNTING: Kyonshi\nSunday 29th August, 2021 14:00 UTC\nFor 1 hour ma
 x.\n \nSign up: https://www.nine-swords.com/forums/18/13387\n
X-ALT-DESC;FMTTYPE=text/html:<p><strong class="text-strong">MONSTER HUNTING: Kyonshi</strong><br />Sunda
 y 29th August, 2021 14:00 UTC<br />For 1 hour max.</p><p> </p><p>Sign up: h
 ttps://www.nine-swords.com/forums/18/13387</p>
DTSTAMP:20260425T104405
DTSTART;TZID=UTC:20210829T140000
DTEND;TZID=UTC:20210829T145500
SEQUENCE:0
TRANSP:OPAQUE
END:VEVENT
END:VCALENDAR