BEGIN:VCALENDAR
VERSION:2.0
PRODID:-//jEvents 2.0 for Joomla//EN
CALSCALE:GREGORIAN
METHOD:PUBLISH
BEGIN:VEVENT
UID:4531fd023a89791c4c00d5994bad494b
CATEGORIES:PvE
CREATED:20210829T145551
SUMMARY:MONSTER HUNTING: Kyonshi
DESCRIPTION:<p><strong class="text-strong">MONSTER HUNTING: Kyonshi</strong><br />Sunda
 y 5th September, 2021 14:00 UTC<br />For 1 hour max.</p><p> </p><p> </p>
DTSTAMP:20260425T104417
DTSTART;TZID=UTC:20210905T140000
DTEND;TZID=UTC:20210905T145500
SEQUENCE:0
TRANSP:OPAQUE
END:VEVENT
END:VCALENDAR