BEGIN:VCALENDAR
VERSION:2.0
PRODID:-//jEvents 2.0 for Joomla//EN
CALSCALE:GREGORIAN
METHOD:PUBLISH
BEGIN:VEVENT
UID:ba22d09502cc19424f12c43b2e97cab5
CATEGORIES:PvE
CREATED:20210915T182832
SUMMARY:Monster Hunting
DESCRIPTION:<p>Target: Scarecrows</p><p>https://www.nine-swords.com/forums/18/13416</p>
DTSTAMP:20260425T104416
DTSTART;TZID=UTC:20210919T140000
DTEND;TZID=UTC:20210919T150000
SEQUENCE:0
TRANSP:OPAQUE
END:VEVENT
END:VCALENDAR