BEGIN:VCALENDAR
VERSION:2.0
PRODID:-//jEvents 2.0 for Joomla//EN
CALSCALE:GREGORIAN
METHOD:PUBLISH
BEGIN:VEVENT
UID:3f2473a18a993e6f9e9d2135cf74caec
CATEGORIES:PvE
CREATED:20210919T150452
SUMMARY:Monster Hunting
DESCRIPTION:Target:Pick your target!\nhttps://www.nine-swords.com/forums/18/13416 (foru
 ms/18/13420)\n
X-ALT-DESC;FMTTYPE=text/html:<p>Target:Pick your target!</p><p><a href="forums/18/13420">https://www.nin
 e-swords.com/forums/18/13416</a></p>
DTSTAMP:20260425T104404
DTSTART;TZID=UTC:20210926T140000
DTEND;TZID=UTC:20210919T150000
SEQUENCE:0
TRANSP:OPAQUE
END:VEVENT
END:VCALENDAR