BEGIN:VCALENDAR
VERSION:2.0
PRODID:-//jEvents 2.0 for Joomla//EN
CALSCALE:GREGORIAN
METHOD:PUBLISH
BEGIN:VEVENT
UID:04e75e11726100d5b164b12492360fc6
CATEGORIES:Social
CREATED:20211007T021240
SUMMARY:The Bela Lugosi 4th Annual Masquerade
LOCATION:Albion Theatre\, London
DESCRIPTION:Time to get your white-on-white, translucent black capes back off the rack 
 and sharpen your drinking straws for 2021's Masquerade ball, the "Bela Lugo
 si Memorial 4th Annual Masquerade"! Come down to the Albion for a good time
  in costume, dancing along while DJ Drina spins the tunes. This is a social
 , RP-optional event, sponsored by Happy Tentacle Radio and Nine Swords.\n \
 n
X-ALT-DESC;FMTTYPE=text/html:<p>Time to get your white-on-white, translucent black capes back off the ra
 ck and sharpen your drinking straws for 2021's Masquerade ball, the "Bela L
 ugosi Memorial 4th Annual Masquerade"! Come down to the Albion for a good t
 ime in costume, dancing along while DJ Drina spins the tunes. This is a soc
 ial, RP-optional event, sponsored by Happy Tentacle Radio and Nine Swords.<
 /p><p> </p>
CONTACT:Yuriksha
DTSTAMP:20260425T104404
DTSTART;TZID=UTC:20211016T180000
DTEND;TZID=UTC:20211016T210000
SEQUENCE:0
TRANSP:OPAQUE
END:VEVENT
END:VCALENDAR