BEGIN:VCALENDAR
VERSION:2.0
PRODID:-//jEvents 2.0 for Joomla//EN
CALSCALE:GREGORIAN
METHOD:PUBLISH
BEGIN:VEVENT
UID:30e8b45f255167bfc34a05efba2f389b
CATEGORIES:PvE
CREATED:20211012T184352
SUMMARY:E10 retry
DESCRIPTION:
DTSTAMP:20260425T104417
DTSTART;TZID=UTC:20211016T170000
DTEND;TZID=UTC:20211016T175900
SEQUENCE:0
TRANSP:OPAQUE
END:VEVENT
END:VCALENDAR