BEGIN:VCALENDAR
VERSION:2.0
PRODID:-//jEvents 2.0 for Joomla//EN
CALSCALE:GREGORIAN
METHOD:PUBLISH
BEGIN:VEVENT
UID:3dfcdbb3d15bc703f484d4e882743a60
CATEGORIES:Social
CREATED:20211120T091238
SUMMARY:12DAYS: 9S Goals for 2022
DESCRIPTION:Come and along and join for a social hour of chatting and looking back at o
 ur goals from 2021, how we think we did, and forming our goals for 2022 as 
 a cabal.\n \n \n
X-ALT-DESC;FMTTYPE=text/html:<p>Come and along and join for a social hour of chatting and looking back a
 t our goals from 2021, how we think we did, and forming our goals for 2022 
 as a cabal.</p><p> </p><p> </p>
DTSTAMP:20260425T025633
DTSTART;TZID=UTC:20211219T200000
DTEND;TZID=UTC:20211219T210000
SEQUENCE:0
TRANSP:OPAQUE
END:VEVENT
END:VCALENDAR