BEGIN:VCALENDAR
VERSION:2.0
PRODID:-//jEvents 2.0 for Joomla//EN
CALSCALE:GREGORIAN
METHOD:PUBLISH
BEGIN:VEVENT
UID:21dea01016f5b13f6ccd5280e8840a01
CATEGORIES:Social
CREATED:20211120T092305
SUMMARY:12DAYS: 9S Christmas Screenshots (rescheduled)
DESCRIPTION:NEW DATE! \n \nTime to get out your best ugly sweater, or perhaps even your
  favourite one. Join us to take a few screenshots as a memento from this ye
 ars seasonal events.\nAt event time, please meet up on Katelin. See you the
 re!\n
X-ALT-DESC;FMTTYPE=text/html:<p>NEW DATE! </p><p> </p><p>Time to get out your best ugly sweater, or perh
 aps even your favourite one. Join us to take a few screenshots as a memento
  from this years seasonal events.</p><p>At event time, please meet up on Ka
 telin. See you there!</p>
DTSTAMP:20260425T025632
DTSTART;TZID=UTC:20211219T193000
DTEND;TZID=UTC:20211219T200000
SEQUENCE:0
TRANSP:OPAQUE
END:VEVENT
END:VCALENDAR