BEGIN:VCALENDAR
VERSION:2.0
PRODID:-//jEvents 2.0 for Joomla//EN
CALSCALE:GREGORIAN
METHOD:PUBLISH
BEGIN:VEVENT
UID:57d744bdefa221d22adadf27f6179c6a
CATEGORIES:Social
CREATED:20211120T094707
SUMMARY:12DDAYS: Festive FUN Day!
DESCRIPTION:Take a screenshot of yourself doing something festively fun in game today a
 nd submit it to the thread in our Noticeboard here: LINK INCOMING\nWe will 
 vote on the best screenshot for a prize ( to be announced )\nOnly screensho
 ts submitted between the 21st to 22nd December 2021 are valid for this comp
 etition!\n
X-ALT-DESC;FMTTYPE=text/html:<p>Take a screenshot of yourself doing something festively fun in game toda
 y and submit it to the thread in our Noticeboard here: LINK INCOMING</p><p>
 We will vote on the best screenshot for a prize ( to be announced )</p><p>O
 nly screenshots submitted between the 21st to 22nd December 2021 are valid 
 for this competition!</p>
DTSTAMP:20260425T025634
DTSTART;TZID=UTC;VALUE=DATE:20211221
DTEND;TZID=UTC;VALUE=DATE:20211222
SEQUENCE:0
TRANSP:OPAQUE
END:VEVENT
END:VCALENDAR