BEGIN:VCALENDAR
VERSION:2.0
PRODID:-//jEvents 2.0 for Joomla//EN
CALSCALE:GREGORIAN
METHOD:PUBLISH
BEGIN:VEVENT
UID:d559f7758001733a947804a5fd1239b7
CATEGORIES:Social
CREATED:20211120T095423
SUMMARY:12DAYS: 7 Sleeps to go... Clean up Kaidan!
DESCRIPTION:<p>Incase there was any doubt if you have been good or bad today, time to g
 et the arrow pointing definitively towards good! We are going on a filth hu
 nting spree to try to clear the streets of Kaidan of its Beasties. </p><p>S
 ign up will be in the Noticeboard forum closer to the date / time</p><p> </
 p><p> </p>
DTSTAMP:20260425T025717
DTSTART;TZID=UTC:20211217T180000
DTEND;TZID=UTC:20211217T190000
SEQUENCE:0
TRANSP:OPAQUE
END:VEVENT
END:VCALENDAR