BEGIN:VCALENDAR
VERSION:2.0
PRODID:-//jEvents 2.0 for Joomla//EN
CALSCALE:GREGORIAN
METHOD:PUBLISH
BEGIN:VEVENT
UID:5139d0085bad43a6e7d2fdab2d92159a
CATEGORIES:Social
CREATED:20211120T095805
SUMMARY:12DAYS: Poems around the fire
DESCRIPTION:Swords, it is time to prepare some poems to read around the fire as we get 
 all cosy and relaxed before the rush of the holidays.\nUse the time until o
 ur event to prepare something you want to write yourself - or find a poem y
 ou want to share with us for this event. \n
X-ALT-DESC;FMTTYPE=text/html:<p>Swords, it is time to prepare some poems to read around the fire as we g
 et all cosy and relaxed before the rush of the holidays.</p><p>Use the time
  until our event to prepare something you want to write yourself - or find 
 a poem you want to share with us for this event. </p>
DTSTAMP:20260425T025632
DTSTART;TZID=UTC:20211223T200000
DTEND;TZID=UTC:20211223T210000
SEQUENCE:0
TRANSP:OPAQUE
END:VEVENT
END:VCALENDAR