BEGIN:VCALENDAR
VERSION:2.0
PRODID:-//jEvents 2.0 for Joomla//EN
CALSCALE:GREGORIAN
METHOD:PUBLISH
BEGIN:VEVENT
UID:cbf831ffd6e0d57c78838d32fbc47496
CATEGORIES:Social
CREATED:20211120T103108
SUMMARY:12DAYS: If you were in a band...
DESCRIPTION:#12 drummers drumming, 11 pipers piping....#\nPerhaps too many people for t
 his event! But - this is purely just for fun - and you have a week to submi
 t your best entries!\nIf you were in a band, with members of Nine Swords - 
 What is your band name and what would you look like?\nSubmit your :\n\n - b
 and name\n - band member list\n - and a screenshot of you "performing"in th
 is thread in our Noticeboard from the 13th December to the 19th December 20
 21! https://www.nine-swords.com/forums/topic/13540 (forums/topic/13540)\n
X-ALT-DESC;FMTTYPE=text/html:<p><em>#12 drummers drumming</em>, <em>11 pipers piping....#</em></p><p>Per
 haps too many people for this event! But - this is purely just for fun - an
 d you have a week to submit your best entries!</p><p>If you were in a band,
  with members of Nine Swords - What is your band name and what would you lo
 ok like?</p><p>Submit your :</p><ul><li>band name</li><li>band member list<
 /li><li>and a screenshot of you "performing"</li></ul><p>in this thread in 
 our Noticeboard from the 13th December to the 19th December 2021! <a href="
 forums/topic/13540">https://www.nine-swords.com/forums/topic/13540</a></p>
DTSTAMP:20260425T030952
DTSTART;TZID=UTC;VALUE=DATE:20211213
DTEND;TZID=UTC;VALUE=DATE:20211214
SEQUENCE:0
TRANSP:OPAQUE
END:VEVENT
END:VCALENDAR