BEGIN:VCALENDAR
VERSION:2.0
PRODID:-//jEvents 2.0 for Joomla//EN
CALSCALE:GREGORIAN
METHOD:PUBLISH
BEGIN:VEVENT
UID:39acf5b3de758592b9f264fbb96bbb07
CATEGORIES:Social
CREATED:20211203T141559
SUMMARY:12DAYS: SWL A-Z of Christmas
DESCRIPTION:<p>We might have to get a bit creative on this one...  or slightly squint o
 ur eyes to make it fit with the theme.</p><p>Get over to this thread (LINK 
 INCOMING) to join in with Nine Swords SWL Christmas A-Z </p>
DTSTAMP:20260425T031053
DTSTART;TZID=UTC;VALUE=DATE:20211215
DTEND;TZID=UTC;VALUE=DATE:20211216
SEQUENCE:0
TRANSP:OPAQUE
END:VEVENT
END:VCALENDAR