BEGIN:VCALENDAR
VERSION:2.0
PRODID:-//jEvents 2.0 for Joomla//EN
CALSCALE:GREGORIAN
METHOD:PUBLISH
BEGIN:VEVENT
UID:f34461a0d566d52ac5e1c8c09932fa0d
CATEGORIES:Social
CREATED:20211211T160748
SUMMARY:12Days: 9S Xmas Would you Rather?
DESCRIPTION:In the hopes of getting to know your weirdness all a little better...\nWe a
 re having a 9S 12DAYS special of "Would you rather?"\n \nJoin in here: http
 s://nine-swords.com/forums/topic/13544 (forums/topic/13544)\n
X-ALT-DESC;FMTTYPE=text/html:<p>In the hopes of getting to know your weirdness all a little better...<br
  />We are having a 9S 12DAYS special of "Would you rather?"</p><p> </p><p>J
 oin in here: <a href="forums/topic/13544">https://nine-swords.com/forums/to
 pic/13544</a></p>
DTSTAMP:20260425T025631
DTSTART;TZID=UTC;VALUE=DATE:20211214
DTEND;TZID=UTC;VALUE=DATE:20211215
SEQUENCE:0
TRANSP:OPAQUE
END:VEVENT
END:VCALENDAR