BEGIN:VCALENDAR
VERSION:2.0
PRODID:-//jEvents 2.0 for Joomla//EN
CALSCALE:GREGORIAN
METHOD:PUBLISH
BEGIN:VEVENT
UID:5903408038101d73689d19f62db99e92
CATEGORIES:PvE
CREATED:19700101T000000
SUMMARY:Mega Bosses Summoning
DESCRIPTION:<p>We are summoning some (5 usually) Mega Bosses on the Agartha public raid
 s platform.</p>
DTSTAMP:20260423T033502
DTSTART;TZID=UTC:20220717T100000
DTEND;TZID=UTC:20220717T110000
SEQUENCE:0
RRULE:FREQ=DAILY;COUNT=6;INTERVAL=1
TRANSP:OPAQUE
END:VEVENT
END:VCALENDAR