BEGIN:VCALENDAR
VERSION:2.0
PRODID:-//jEvents 2.0 for Joomla//EN
CALSCALE:GREGORIAN
METHOD:PUBLISH
BEGIN:VEVENT
UID:bcdb30c7888f78041e12c24e38fc8661
CATEGORIES:PvE
CREATED:19700101T000000
SUMMARY:E1 Dungeon-USA Time Zone
LOCATION:Agartha
DESCRIPTION:Introduction to Elites: Dungeon runs for fun and profit.\nRecruiting will b
 egin approximately 6pm pacific USA. I'll be tanking.  Have room for one hea
 ler and three DPS.  If we can't fill up with Swords, I'll finish off the te
 am with people from the activity finder.\nThese runs are intended as learni
 ng experiences (since I'm still learning to tank) and new level 50's are we
 lcome to join up to learn how to run elites.  The requirements are that you
  are level 50 and willing to be patient with fellow learners.  If you are e
 xperienced at dungeons but would like to try a new role (shout out to heale
 r LeMortieth!) this is a great way to practice.\nIf there are more people t
 han empty spots, I will do a second run, if time allows.  If we're having l
 ots of fun and profit, we may keep going until we run out of keys.\n To sig
 n up, or just to make a comment, the forum thread is at:\nhttps://www.nine-
 swords.com/forums/18/10977 (forums/18/10977)\n \n
X-ALT-DESC;FMTTYPE=text/html:<p>Introduction to Elites: Dungeon runs for fun and profit.</p><p>Recruitin
 g will begin approximately 6pm pacific USA. I'll be tanking.  Have room for
  one healer and three DPS.  If we can't fill up with Swords, I'll finish of
 f the team with people from the activity finder.</p><p>These runs are inten
 ded as learning experiences (since I'm still learning to tank) and new leve
 l 50's are welcome to join up to learn how to run elites.  The requirements
  are that you are level 50 and willing to be patient with fellow learners. 
  If you are experienced at dungeons but would like to try a new role (shout
  out to healer LeMortieth!) this is a great way to practice.</p><p>If there
  are more people than empty spots, I will do a second run, if time allows. 
  If we're having lots of fun and profit, we may keep going until we run out
  of keys.</p><p> To sign up, or just to make a comment, the forum thread is
  at:</p><p><a href="forums/18/10977">https://www.nine-swords.com/forums/18/
 10977</a></p><p> </p>
CONTACT:Ghostchilde
DTSTAMP:20260422T014225
DTSTART;TZID=UTC:20171212T020000
DTEND;TZID=UTC:20171212T040000
SEQUENCE:0
RRULE:FREQ=WEEKLY;UNTIL=20180113T000000Z;INTERVAL=1;BYDAY=TU
TRANSP:OPAQUE
END:VEVENT
END:VCALENDAR