BEGIN:VCALENDAR
VERSION:2.0
PRODID:-//jEvents 2.0 for Joomla//EN
CALSCALE:GREGORIAN
METHOD:PUBLISH
BEGIN:VEVENT
UID:5a0f498512dc331de767091ea2bb8c9a
CATEGORIES:PvE
CREATED:20180113T082136
SUMMARY:Easy Manhattan Raids
DESCRIPTION:<p>Standard Story Mode + Elite 1 New York Raids.</p><p>Sign up thread: <a h
 ref="forums/18/11059">https://nine-swords.com/forums/18/11059</a></p>
DTSTAMP:20260421T222255
DTSTART;TZID=UTC:20180113T193000
DTEND;TZID=UTC:20180113T201500
SEQUENCE:0
TRANSP:OPAQUE
END:VEVENT
END:VCALENDAR