BEGIN:VCALENDAR
VERSION:2.0
PRODID:-//jEvents 2.0 for Joomla//EN
CALSCALE:GREGORIAN
METHOD:PUBLISH
BEGIN:VEVENT
UID:b272f1838829d793f34379847529210e
CATEGORIES:PvE
CREATED:20180115T121113
SUMMARY:NYR story and E1
DESCRIPTION:<div class="jev_evdt_summary">Wednesday, 17 January 2018, 08:00pm - 09:00pm
 </div><p> </p><div class="jev_evdt_hits"> </div><p>NYR Story and E1</p><div
  class="jev_evdt_desc"><p>Sign up here:</p><p> </p><p>&lt;a href= <a href="
 forums/18/11067">https://nine-swords.com/forums/18/11067</a> &gt;&lt;/a&gt;
 </p></div>
DTSTAMP:20260421T222233
DTSTART;TZID=UTC:20180117T200000
DTEND;TZID=UTC:20180117T210000
SEQUENCE:0
TRANSP:OPAQUE
END:VEVENT
END:VCALENDAR