BEGIN:VCALENDAR
VERSION:2.0
PRODID:-//jEvents 2.0 for Joomla//EN
CALSCALE:GREGORIAN
METHOD:PUBLISH
BEGIN:VEVENT
UID:ce818c0c3d71948e5d82228c4823321b
CATEGORIES:PvE
CREATED:20180117T211353
SUMMARY:Regional Boss Raid 
DESCRIPTION:https://nine-swords.com/forums/18/11077 (forums/18/11077)\n
X-ALT-DESC;FMTTYPE=text/html:<p><a href="forums/18/11077">https://nine-swords.com/forums/18/11077</a></p
 >
DTSTAMP:20260421T222053
DTSTART;TZID=UTC:20180119T180000
DTEND;TZID=UTC:20180119T190000
SEQUENCE:0
TRANSP:OPAQUE
END:VEVENT
END:VCALENDAR