BEGIN:VCALENDAR
VERSION:2.0
PRODID:-//jEvents 2.0 for Joomla//EN
CALSCALE:GREGORIAN
METHOD:PUBLISH
BEGIN:VEVENT
UID:462bed9f170b26c82bad2ae8f5c39320
CATEGORIES:PvE
CREATED:20180122T105601
SUMMARY:NYR Story and E1
DESCRIPTION:<p>NYR Story and E1</p><div class="jev_evdt_desc"><p>Sign up here:</p><p> <
 /p><p>&lt;a href= <a href="forums/18/11086">https://nine-swords.com/forums/
 18/11086</a> &gt; Sign up here &lt;/a&gt;</p></div>
DTSTAMP:20260422T014344
DTSTART;TZID=UTC:20180124T200000
DTEND;TZID=UTC:20180124T210000
SEQUENCE:0
TRANSP:OPAQUE
END:VEVENT
END:VCALENDAR