BEGIN:VCALENDAR
VERSION:2.0
PRODID:-//jEvents 2.0 for Joomla//EN
CALSCALE:GREGORIAN
METHOD:PUBLISH
BEGIN:VEVENT
UID:d00c1cdc21bfc18c35f7e7a07e5659a1
CATEGORIES:PvE
CREATED:20180124T181456
SUMMARY:New York Raid S+E1
DESCRIPTION:Standard run on the easier modes of the Manhattan Exclusion Zone raid.\nSig
 n-up thread: https://nine-swords.com/forums/18/11100 (forums/18/11100)\n
X-ALT-DESC;FMTTYPE=text/html:<p>Standard run on the easier modes of the Manhattan Exclusion Zone raid.</
 p><p>Sign-up thread: <a href="forums/18/11100">https://nine-swords.com/foru
 ms/18/11100</a></p>
DTSTAMP:20260422T014219
DTSTART;TZID=UTC:20180127T190000
DTEND;TZID=UTC:20180127T200000
SEQUENCE:0
TRANSP:OPAQUE
END:VEVENT
END:VCALENDAR