BEGIN:VCALENDAR
VERSION:2.0
PRODID:-//jEvents 2.0 for Joomla//EN
CALSCALE:GREGORIAN
METHOD:PUBLISH
BEGIN:VEVENT
UID:88e80fd5cac6be49909e95656925b007
CATEGORIES:PvE
CREATED:20180129T060411
SUMMARY:Yuri's First Elite 5 Dungeon
DESCRIPTION:Sign-up thread: https://nine-swords.com/forums/18/11107 (forums/18/11107)\n
X-ALT-DESC;FMTTYPE=text/html:<p>Sign-up thread: <a href="forums/18/11107">https://nine-swords.com/forums
 /18/11107</a></p>
DTSTAMP:20260422T044847
DTSTART;TZID=UTC:20180201T190000
DTEND;TZID=UTC:20180201T200000
SEQUENCE:0
TRANSP:OPAQUE
END:VEVENT
END:VCALENDAR